BEGIN:VCALENDAR
VERSION:2.0
PRODID:-//NBS//eStore//EDUC 2000 FPS Infinite Campus Implementation 2026
CALSCALE:GREGORIAN
METHOD:PUBLISH
BEGIN:VEVENT
DTSTART:20260819T000000
DTEND:20261209T000000
SUMMARY:EDUC 2000 FPS Infinite Campus Implementation 2026
LOCATION: , , , 
DESCRIPTION:<h2>May 1-December 16, 2026
(meet August 19 or 20, September 16, October 21 & December 9) </h2>
<br>
<ul>
<li>One PD credit will be available.</li>
</ul>

<br><strong>Location:</strong> Face-to-face and Online through Canvas<br>

<br><font color="red"><strong>URL closes August 28, 2026 </strong></font><br><br>

<strong>In the event, this URL needs to be re-opened, an additional late fee of $25 will be assessed.</strong></font><br>
<font color="green"><strong>You will receive an email when you have successfully registered. Allow 2 business days for registration processing. Prior to course start date, the instructor will send course access using email provided in registration.</strong></font>

PRIORITY:3
END:VEVENT
END:VCALENDAR
